BEGIN:VCALENDAR
VERSION:2.0
PRODID:-//Haus im Herrengrund - ECPv6.15.20//NONSGML v1.0//EN
CALSCALE:GREGORIAN
METHOD:PUBLISH
X-WR-CALNAME:Haus im Herrengrund
X-ORIGINAL-URL:https://herrengrund.de
X-WR-CALDESC:Veranstaltungen für Haus im Herrengrund
REFRESH-INTERVAL;VALUE=DURATION:PT1H
X-Robots-Tag:noindex
X-PUBLISHED-TTL:PT1H
BEGIN:VTIMEZONE
TZID:Europe/Berlin
BEGIN:DAYLIGHT
TZOFFSETFROM:+0100
TZOFFSETTO:+0200
TZNAME:CEST
DTSTART:20240331T010000
END:DAYLIGHT
BEGIN:STANDARD
TZOFFSETFROM:+0200
TZOFFSETTO:+0100
TZNAME:CET
DTSTART:20241027T010000
END:STANDARD
BEGIN:DAYLIGHT
TZOFFSETFROM:+0100
TZOFFSETTO:+0200
TZNAME:CEST
DTSTART:20250330T010000
END:DAYLIGHT
BEGIN:STANDARD
TZOFFSETFROM:+0200
TZOFFSETTO:+0100
TZNAME:CET
DTSTART:20251026T010000
END:STANDARD
BEGIN:DAYLIGHT
TZOFFSETFROM:+0100
TZOFFSETTO:+0200
TZNAME:CEST
DTSTART:20260329T010000
END:DAYLIGHT
BEGIN:STANDARD
TZOFFSETFROM:+0200
TZOFFSETTO:+0100
TZNAME:CET
DTSTART:20261025T010000
END:STANDARD
END:VTIMEZONE
BEGIN:VEVENT
DTSTART;TZID=Europe/Berlin:20250317T180000
DTEND;TZID=Europe/Berlin:20250317T190000
DTSTAMP:20260423T004009
CREATED:20250129T093728Z
LAST-MODIFIED:20250304T113455Z
UID:8781-1742234400-1742238000@herrengrund.de
SUMMARY:Bewusstheit durch Bewegung nach Feldenkrais
DESCRIPTION:⟵ Alle Veranstaltungen \n \nBewusstheit durch Bewegung nach Feldenkrais\nDurch sanfte Bewegungen bringen Sie Körper und Seele wieder in Einklang. Mit neu erlernten präzisen Bewegungsabläufen finden Sie zu einem bewussten Körperempfinden\, das sich positiv auf Ihre mentale Gesundheit auswirkt. \nAngeleiteter Kurs\, wöchentlich montags 18:00 – 19:00 Uhr\nEinstieg jederzeit möglich \nKosten: 12\,- Euro \nKommende Termine: 17.3. / 24.3. / 7.4. \n  \nVeranstaltungsort: Bewegungsraum im Herrengrund \nVeranstalter: Bianca Heitner-Frank\, Haus im Herrengrund \n  \nHaben Sie fragen zu unserem Angebot? Schreiben Sie uns.\n\n\n  \n\n\n\n Name*\n \n \n E-Mail*\n \n \n Betreff\n \n \n Nachricht\n \n \n\n \n\n\n\n⟵ Alle Veranstaltungen
URL:https://herrengrund.de/veranstaltung/bewusstheit-durch-bewegung-nach-feldenkrais-6/
LOCATION:Haus im Herrengrund
CATEGORIES:Progressive Muskelentspannung
ORGANIZER;CN="Marc Wilhelm":MAILTO:marc.wilhlem@herrengrund.de
END:VEVENT
END:VCALENDAR