BEGIN:VCALENDAR
VERSION:2.0
PRODID:-//Haus im Herrengrund - ECPv6.15.20//NONSGML v1.0//EN
CALSCALE:GREGORIAN
METHOD:PUBLISH
X-WR-CALNAME:Haus im Herrengrund
X-ORIGINAL-URL:https://herrengrund.de
X-WR-CALDESC:Veranstaltungen für Haus im Herrengrund
REFRESH-INTERVAL;VALUE=DURATION:PT1H
X-Robots-Tag:noindex
X-PUBLISHED-TTL:PT1H
BEGIN:VTIMEZONE
TZID:Europe/Berlin
BEGIN:DAYLIGHT
TZOFFSETFROM:+0100
TZOFFSETTO:+0200
TZNAME:CEST
DTSTART:20230326T010000
END:DAYLIGHT
BEGIN:STANDARD
TZOFFSETFROM:+0200
TZOFFSETTO:+0100
TZNAME:CET
DTSTART:20231029T010000
END:STANDARD
BEGIN:DAYLIGHT
TZOFFSETFROM:+0100
TZOFFSETTO:+0200
TZNAME:CEST
DTSTART:20240331T010000
END:DAYLIGHT
BEGIN:STANDARD
TZOFFSETFROM:+0200
TZOFFSETTO:+0100
TZNAME:CET
DTSTART:20241027T010000
END:STANDARD
BEGIN:DAYLIGHT
TZOFFSETFROM:+0100
TZOFFSETTO:+0200
TZNAME:CEST
DTSTART:20250330T010000
END:DAYLIGHT
BEGIN:STANDARD
TZOFFSETFROM:+0200
TZOFFSETTO:+0100
TZNAME:CET
DTSTART:20251026T010000
END:STANDARD
END:VTIMEZONE
BEGIN:VEVENT
DTSTART;TZID=Europe/Berlin:20241128T200000
DTEND;TZID=Europe/Berlin:20241128T220000
DTSTAMP:20260425T144952
CREATED:20240921T055134Z
LAST-MODIFIED:20241112T111250Z
UID:7911-1732824000-1732831200@herrengrund.de
SUMMARY:Herrengrund-Kino: Der Klang des Herzens
DESCRIPTION:⟵ Alle Veranstaltungen \n \n28. November 2024\, Einlass um 19.00 Uhr\, Filmstart um 20.00 Uhr \nDer Klang des Herzens\nDer elfjährige Waisenjunge Evan sucht in New York seine Eltern\, die sich nach nur einer Liebesnacht trennen mussten. Er findet sie über verschlungene Wege schließlich mit Hilfe seiner Musik. Der Film folgt einem zutiefst romantischen Motiv: Liebende sind miteinander wie mit einem unsichtbaren Band verbunden. Körperliche Trennung\, räumliche Distanz und die Unmöglichkeit\, miteinander zu sprechen\, spielen keine Rolle. \n  \nHerrengrund-Kino \nAusgewählte Filme mit Humor\, Gefühl und Tiefgang. \nEinmal im Monat wird aus dem Roten Salon ein Kino-Saal mit gemütlichen Sofas\, Snacks und Getränken. Ein Event für alle Film-Liebhaber und solche\, die Unterhaltung in geselliger Runde mögen. \nTipp: Vorher einen Aperitif genießen – mit Snack-Etagere\, wenn immer möglich auf unserer Terrasse! \nEinlass: 19.00 Uhr \nFilmbeginn: 20:00 Uhr \nAlle Veranstaltungen des Lichtbogen e.V. sind finanziert durch Spenden. \nVeranstaltungsort:\nRoter Salon\, Haus im Herrengrund \nVeranstalter:\nLichtbogen e.V. \nKeine Anmeldung nötig. Wenn Sie Fragen haben\, freuen wir uns über Ihre Nachricht.\nNutzen Sie hierzu einfach das untenstehende Formular.\n\n\n  \n\n\n\n Name*\n \n \n E-Mail*\n \n \n Betreff\n \n \n Nachricht\n \n \n\n \n\n\n\n⟵ Alle Veranstaltungen
URL:https://herrengrund.de/veranstaltung/herrengrund-kino-der-klang-des-herzens/
LOCATION:Roter Salon
CATEGORIES:Herrengrund Kino
ORGANIZER;CN="Lichtbogen e.V.":MAILTO:info@lichtbogen-verein.de
END:VEVENT
END:VCALENDAR