BEGIN:VCALENDAR
VERSION:2.0
PRODID:-//Haus im Herrengrund - ECPv6.15.20//NONSGML v1.0//EN
CALSCALE:GREGORIAN
METHOD:PUBLISH
X-WR-CALNAME:Haus im Herrengrund
X-ORIGINAL-URL:https://herrengrund.de
X-WR-CALDESC:Veranstaltungen für Haus im Herrengrund
REFRESH-INTERVAL;VALUE=DURATION:PT1H
X-Robots-Tag:noindex
X-PUBLISHED-TTL:PT1H
BEGIN:VTIMEZONE
TZID:Europe/Berlin
BEGIN:DAYLIGHT
TZOFFSETFROM:+0100
TZOFFSETTO:+0200
TZNAME:CEST
DTSTART:20230326T010000
END:DAYLIGHT
BEGIN:STANDARD
TZOFFSETFROM:+0200
TZOFFSETTO:+0100
TZNAME:CET
DTSTART:20231029T010000
END:STANDARD
BEGIN:DAYLIGHT
TZOFFSETFROM:+0100
TZOFFSETTO:+0200
TZNAME:CEST
DTSTART:20240331T010000
END:DAYLIGHT
BEGIN:STANDARD
TZOFFSETFROM:+0200
TZOFFSETTO:+0100
TZNAME:CET
DTSTART:20241027T010000
END:STANDARD
BEGIN:DAYLIGHT
TZOFFSETFROM:+0100
TZOFFSETTO:+0200
TZNAME:CEST
DTSTART:20250330T010000
END:DAYLIGHT
BEGIN:STANDARD
TZOFFSETFROM:+0200
TZOFFSETTO:+0100
TZNAME:CET
DTSTART:20251026T010000
END:STANDARD
END:VTIMEZONE
BEGIN:VEVENT
DTSTART;TZID=Europe/Berlin:20241031T200000
DTEND;TZID=Europe/Berlin:20241031T220000
DTSTAMP:20260423T111852
CREATED:20240921T063931Z
LAST-MODIFIED:20241007T141713Z
UID:7906-1730404800-1730412000@herrengrund.de
SUMMARY:Herrengrund-Kino: Spurwechsel
DESCRIPTION:⟵ Alle Veranstaltungen \n \nSpurwechsel\n31.10.2024\, 19.00 Uhr Einlass\, Film beginnt um 20.00 Uhr \nZwei Männer in privaten Ausnahmesituationen prallen aufeinander: Der ehrgeizige Anwalt Gavin steht kurz vor einer unlauteren Tat\, die er vor seinem Gewissen kaum verantworten kann. Der Angestellte Doyle ist auf dem Weg zu einer Gerichtsverhandlung um das Sorgerecht für seine Kinder. Ihre Autos kollidieren. Gavin macht sich aus dem Staub und vergisst dabei seine Gerichtsakten. Doyle entdeckt diese\, doch gibt sie ihm aus Verärgerung nicht zurück. Keiner der beiden will klein beigeben – und das Schicksal nimmt seinen Lauf. \n  \nHerrengrund-Kino \nAusgewählte Filme mit Humor\, Gefühl und Tiefgang. \nEinmal im Monat wird aus dem Roten Salon ein Kino-Saal mit gemütlichen Sofas\, Snacks und Getränken. Ein Event für alle Film-Liebhaber und solche\, die Unterhaltung in geselliger Runde mögen. \n  \nTipp: Vorher einen Aperitif genießen – mit Snack-Etagere\, wenn immer möglich auf unserer Terrasse! \nEinlass: 19.00 Uhr \nFilmbeginn: 20:00 Uhr \nVeranstaltungen des Lichtbogen e.V. sind finanziert durch Spenden. \nVeranstaltungsort:\nRoter Salon \nVeranstalter:\nLichtbogen e.V. \n  \n⟵ Alle Veranstaltungen
URL:https://herrengrund.de/veranstaltung/herrengrund-kino-spurwechsel/
LOCATION:Roter Salon
CATEGORIES:Herrengrund Kino
ORGANIZER;CN="Lichtbogen e.V.":MAILTO:info@lichtbogen-verein.de
END:VEVENT
END:VCALENDAR