BEGIN:VCALENDAR
VERSION:2.0
PRODID:-//Haus im Herrengrund - ECPv6.15.20//NONSGML v1.0//EN
CALSCALE:GREGORIAN
METHOD:PUBLISH
X-WR-CALNAME:Haus im Herrengrund
X-ORIGINAL-URL:https://herrengrund.de
X-WR-CALDESC:Veranstaltungen für Haus im Herrengrund
REFRESH-INTERVAL;VALUE=DURATION:PT1H
X-Robots-Tag:noindex
X-PUBLISHED-TTL:PT1H
BEGIN:VTIMEZONE
TZID:Europe/Berlin
BEGIN:DAYLIGHT
TZOFFSETFROM:+0100
TZOFFSETTO:+0200
TZNAME:CEST
DTSTART:20230326T010000
END:DAYLIGHT
BEGIN:STANDARD
TZOFFSETFROM:+0200
TZOFFSETTO:+0100
TZNAME:CET
DTSTART:20231029T010000
END:STANDARD
BEGIN:DAYLIGHT
TZOFFSETFROM:+0100
TZOFFSETTO:+0200
TZNAME:CEST
DTSTART:20240331T010000
END:DAYLIGHT
BEGIN:STANDARD
TZOFFSETFROM:+0200
TZOFFSETTO:+0100
TZNAME:CET
DTSTART:20241027T010000
END:STANDARD
BEGIN:DAYLIGHT
TZOFFSETFROM:+0100
TZOFFSETTO:+0200
TZNAME:CEST
DTSTART:20250330T010000
END:DAYLIGHT
BEGIN:STANDARD
TZOFFSETFROM:+0200
TZOFFSETTO:+0100
TZNAME:CET
DTSTART:20251026T010000
END:STANDARD
END:VTIMEZONE
BEGIN:VEVENT
DTSTART;TZID=Europe/Berlin:20241129T190000
DTEND;TZID=Europe/Berlin:20241129T220000
DTSTAMP:20260425T131116
CREATED:20241115T154332Z
LAST-MODIFIED:20241123T090422Z
UID:8245-1732906800-1732917600@herrengrund.de
SUMMARY:Schweizer Fondueabend
DESCRIPTION:⟵ Alle Veranstaltungen \n\nFreitag\, 29. November 2024\, ab 19.00 Uhr \nSchweizer Fondueabend\nOriginal Schweizer Käsefondue mit traditioneller Schweizer Volksmusik. \n  \nWir freuen uns über Ihre Anmeldung.\nNutzen Sie hierzu einfach das untenstehende Formular.\n  \n\n\n  \n\n\n\n Name*\n \n \n E-Mail*\n \n \n Betreff\n \n \n Nachricht\n \n \n\n \n\n\n\n  \n⟵ Alle Veranstaltungen
URL:https://herrengrund.de/veranstaltung/schweizer-fondue/
LOCATION:Haus im Herrengrund
CATEGORIES:Fondueabend,Herrengrund Kino
END:VEVENT
END:VCALENDAR